BEGIN:VCALENDAR
VERSION:2.0
PRODID:-//BigB Casino - ECPv6.13.2.1//NONSGML v1.0//EN
CALSCALE:GREGORIAN
METHOD:PUBLISH
X-ORIGINAL-URL:https://bigb.casino
X-WR-CALDESC:Events for BigB Casino
REFRESH-INTERVAL;VALUE=DURATION:PT1H
X-Robots-Tag:noindex
X-PUBLISHED-TTL:PT1H
BEGIN:VTIMEZONE
TZID:Asia/Kolkata
BEGIN:STANDARD
TZOFFSETFROM:+0530
TZOFFSETTO:+0530
TZNAME:IST
DTSTART:20250101T000000
END:STANDARD
END:VTIMEZONE
BEGIN:VEVENT
DTSTART;TZID=Asia/Kolkata:20250131T200000
DTEND;TZID=Asia/Kolkata:20250202T050000
DTSTAMP:20260424T205650
CREATED:20250129T051935Z
LAST-MODIFIED:20250129T063230Z
UID:40509-1738353600-1738472400@bigb.casino
SUMMARY:RED CARPET ANNIVERSARY
DESCRIPTION:
URL:https://bigb.casino/event/red-carpet-anniversary/
CATEGORIES:Casino,Upcoming
ATTACH;FMTTYPE=image/png:https://bigb.casino/wp-content/uploads/2025/01/feb-3-dp2.png
END:VEVENT
END:VCALENDAR