BEGIN:VCALENDAR
VERSION:2.0
PRODID:-//BigB Casino - ECPv6.13.2.1//NONSGML v1.0//EN
CALSCALE:GREGORIAN
METHOD:PUBLISH
X-WR-CALNAME:BigB Casino
X-ORIGINAL-URL:https://bigb.casino
X-WR-CALDESC:Events for BigB Casino
REFRESH-INTERVAL;VALUE=DURATION:PT1H
X-Robots-Tag:noindex
X-PUBLISHED-TTL:PT1H
BEGIN:VTIMEZONE
TZID:Asia/Kolkata
BEGIN:STANDARD
TZOFFSETFROM:+0530
TZOFFSETTO:+0530
TZNAME:IST
DTSTART:20240101T000000
END:STANDARD
END:VTIMEZONE
BEGIN:VEVENT
DTSTART;VALUE=DATE:20241104
DTEND;VALUE=DATE:20241112
DTSTAMP:20260423T193656
CREATED:20240830T051005Z
LAST-MODIFIED:20250123T095946Z
UID:38654-1730678400-1731369599@bigb.casino
SUMMARY:Great Gatsby Celebrity Week
DESCRIPTION:« All Events\n 				\n				\n				\n				\n					This event has passed. \n				\n				\n				\n				\n					\n	Great Gatsby Celebrity Week				\n				\n				\n				\n					\n		\n			November 4\n\n		\n	\n	 - \n\n	November 11\n\n	\n				\n				\n				\n				\n					\nFree 				\n				\n				\n				\n					\n	\n				\n				\n				\n				\n							\n						\n						\n					\n			\n						\n				\n					\n	« All Events\n 				\n				\n				\n				\n					This event has passed. \n				\n				\n				\n				\n					\n	Great Gatsby Celebrity Week				\n				\n				\n				\n					\n		\n			November 4\n\n		\n	\n	 - \n\n	November 11\n\n	\n				\n				\n				\n				\n					\nFree 				\n				\n				\n				\n					\n	\n				\n				\n				\n						\n					\n			\n						\n				\n					\n	\n\n	Categories:	\n		Casino	\n\n				\n				\n				\n				\n					\n	\n	Tags:	\n		\n	casino\,\n\n	games\,\n\n	nightlife\n	\n\n				\n				\n					\n		\n				\n			\n							\n		\n					\n		\n				\n						\n					\n			\n						\n				\n					\n				\n				\n	\n	Big B Casino\n	\n	\n\nInside Resort Rio Arpora\n	\n		\n		Baga\,\n\n	Goa\n\n	403518\n\n	India\n\n\n\n\n	+ Google Map \n\n\n	\n					\n			9900077777			\n	 \n\n\n	\n	View Venue Website \n\n\n\n	\n\n\n\n		\n	\n				\n				\n					\n		\n					\n		\n				\n						\n					\n			\n						\n				\n					\n	\n		\n\n	\n	Add to calendar	\n		\n	\n\n		\n			\n									\n	Google Calendar\n\n									\n	iCalendar\n\n									\n	Outlook 365\n\n									\n	Outlook Live\n\n							\n		\n\n		\n	\n\n				\n				\n					\n		\n					\n		\n				\n						\n					\n			\n						\n				\n					\n	\n		\n		\n	\n		INDIAN FLUSH NEW YEAR DHAMAKA			\n\n	\n\n				\n				\n					\n		\n					\n		\n					\n		\n					\n		\n				\n						\n				\n				\n						\n					\n			\n						\n				\n					\n	\n\n	Categories:	\n		Casino	\n\n				\n				\n				\n				\n					\n	\n	Tags:	\n		\n	casino\,\n\n	games\,\n\n	nightlife\n	\n\n				\n				\n					\n		\n				\n			\n							\n		\n					\n		\n				\n						\n					\n			\n						\n				\n					\n				\n				\n	\n	Big B Casino\n	\n	\n\nInside Resort Rio Arpora\n	\n		\n		Baga\,\n\n	Goa\n\n	403518\n\n	India\n\n\n\n\n	+ Google Map \n\n\n	\n					\n			9900077777			\n	 \n\n\n	\n	View Venue Website \n\n\n\n	\n\n\n\n		\n	\n				\n				\n					\n		\n					\n		\n				\n						\n					\n			\n						\n				\n					\n	\n		\n\n	\n	Add to calendar	\n		\n	\n\n		\n			\n									\n	Google Calendar\n\n									\n	iCalendar\n\n									\n	Outlook 365\n\n									\n	Outlook Live\n\n							\n		\n\n		\n	\n\n				\n				\n					\n		\n					\n		\n				\n						\n					\n			\n						\n				\n					\n	\n		\n		\n	\n		INDIAN FLUSH NEW YEAR DHAMAKA
URL:https://bigb.casino/event/pool-party-for-lonely-hearts-meet-dance/
LOCATION:Big B Casino\, Inside Resort Rio Arpora\, Baga\, Goa\, 403518\, India
CATEGORIES:Casino
ATTACH;FMTTYPE=image/jpeg:https://bigb.casino/wp-content/uploads/2024/08/Snapinsta.app_464217915_17941728932908448_287429508118773616_n_1024.jpg
END:VEVENT
END:VCALENDAR